BEGIN:VCALENDAR
VERSION:2.0
PRODID:-//https://umbra-fsp.de///NONSGML kigkonsult.se iCalcreator 2.10.15//
METHOD:PUBLISH
BEGIN:VEVENT
UID:20260421T101928CEST-5450izI3sl@https://umbra-fsp.de/
DTSTAMP:20260421T081928Z
DESCRIPTION:\nIn dieser praxisorientierten Schulung erhalten Sie eine umfas
 sende Einführung in das Firetrace® Objektlöschsystem mit besonderem Fokus 
 auf den Einsatz in Windenergieanlagen (WEA). Firetrace® ist ein autonomes 
 Löschsystem\, das ohne externe Energie auskommt und speziell für den Schut
 z kritischer Komponenten in technischen Anlagen entwickelt wurde.\nDie Sch
 ulung richtet sich an Techniker\, Errichter\, Servicemitarbeiter\, Planer 
 und Fachkräfte\, die Firetrace® Anlagen in Windenergieanlagen planen\, ins
 tallieren\, in Betrieb nehmen und warten möchten.\nIm Rahmen der Schulung 
 werden unter anderem folgende Inhalte behandelt:• Aufbau und Systemkompone
 nten des Firetrace® Löschsystems• Wirkungsweise und Auswahl geeigneter Lös
 chmittel• Besonderheiten bei der Anwendung in Windenergieanlagen• Planung\
 , Auslegung und Praxisbeispiele für den effektiven Einsatz• Installation\,
  Inbetriebnahme sowie Wartungs- und Serviceaspekte\nZiel der Schulung ist 
 es\, Ihnen praxisnahes Fachwissen für den sicheren und effizienten Einsatz
  von Firetrace® Objektlöschanlagen im Umfeld von Windenergieanlagen zu ver
 mitteln.\nDie Schulung wird bevorzugt als Präsenzschulung angeboten und ge
 plant. Bei Bedarf bieten wir jedoch auch eine Durchführung ausschließlich 
 online oder im Hybrid-Modus an. \nAnmeldeschluss ist der 06. September 202
 6.\nBei der Buchung können Sie die Tickets entsprechend Ihrer bevorzugten 
 Teilnahme-Methode auswählen. https://umbra-fsp.de/de/unternehmen/kundensch
 ulungen-webinare/ereignis/11-s2026-07-schulung-firetrace-fuer-wea.html
DTSTART:20260914T070000Z
DTEND:20260914T113000Z
LOCATION:Online/ Berlin (10318 Berlin\, Königswinterstr. 32)
SUMMARY:S2026-07 Schulung Firetrace für WEA
URL:https://umbra-fsp.de/de/unternehmen/kundenschulungen-webinare/ereignis/
 11-s2026-07-schulung-firetrace-fuer-wea.html
END:VEVENT
END:VCALENDAR
